BEGIN:VCALENDAR
VERSION:2.0
PRODID:-//Savannah Point HOA - ECPv6.15.17.1//NONSGML v1.0//EN
CALSCALE:GREGORIAN
METHOD:PUBLISH
X-WR-CALNAME:Savannah Point HOA
X-ORIGINAL-URL:https://savannahpointehoa.com
X-WR-CALDESC:Events for Savannah Point HOA
REFRESH-INTERVAL;VALUE=DURATION:PT1H
X-Robots-Tag:noindex
X-PUBLISHED-TTL:PT1H
BEGIN:VTIMEZONE
TZID:UTC
BEGIN:STANDARD
TZOFFSETFROM:+0000
TZOFFSETTO:+0000
TZNAME:UTC
DTSTART:20210101T000000
END:STANDARD
END:VTIMEZONE
BEGIN:VEVENT
DTSTART;TZID=UTC:20221015T090000
DTEND;TZID=UTC:20221015T110000
DTSTAMP:20260421T193100
CREATED:20220815T153519Z
LAST-MODIFIED:20220815T153519Z
UID:423-1665824400-1665831600@savannahpointehoa.com
SUMMARY:Paper Shredding Event
DESCRIPTION:The HOA is have a paper shredding event for the community on 10/15 at 9 am – 1 1am or until the truck is full! Join us at the Savannah Pointe Clubhouse parking lot.
URL:https://savannahpointehoa.com/event/paper-shredding-event/
LOCATION:AL
CATEGORIES:Community Events
ATTACH;FMTTYPE=image/jpeg:https://savannahpointehoa.com/wp-content/uploads/2022/08/Depositphotos_32561649_S.jpg
END:VEVENT
END:VCALENDAR